BEGIN:VCALENDAR
VERSION:2.0
PRODID:spatie/icalendar-generator
DESCRIPTION:Events from Juankoski
X-WR-CALDESC:Events from Juankoski
REFRESH-INTERVAL;VALUE=DURATION:PT1440M
X-PUBLISHED-TTL:PT1440M
BEGIN:VTIMEZONE
TZID:Europe/Helsinki
BEGIN:STANDARD
DTSTART:20221030T040000Z
TZOFFSETFROM:+0300
TZOFFSETTO:+0200
END:STANDARD
BEGIN:DAYLIGHT
DTSTART:20230326T030000Z
TZOFFSETFROM:+0200
TZOFFSETTO:+0300
END:DAYLIGHT
END:VTIMEZONE
BEGIN:VTIMEZONE
TZID:UTC
BEGIN:STANDARD
DTSTART:20250724T090442Z
TZOFFSETFROM:+0000
TZOFFSETTO:+0000
END:STANDARD
END:VTIMEZONE
BEGIN:VEVENT
UID:53-28
DTSTAMP:20260420T090442Z
SUMMARY:Museo Brunou avoinna
LOCATION:
ORGANIZER;CN=admin:MAILTO:ville@haatanen.com
DTSTART;TZID=Europe/Helsinki:20230407T130000
DTEND;TZID=Europe/Helsinki:20230407T170000
X-ALT-DESC;FMTTYPE=TEXT/HTML:<p>Juankosken tehtaan- ja työväen museo esit
 telee ruukin monivaiheista historiaa.</p>\n<p>Museo ja näyttelyt ovat avo
 inna pe-la klo 13-17.</p>\n<p>Lisätietoja:</p>\n<p>044 061 2055</p>\n<p><a href="https://www.museobrunou.fi" target="_blank">https://www.museob
 runou.fi</a></p>\n
CATEGORIES:General
URL;VALUE=URI:https://www.juankoski.fi/mc-events/museo-brunou-avoinna/
METHOD:PUBLISH
END:VEVENT
END:VCALENDAR